BEGIN:VCALENDAR
VERSION:2.0
PRODID:icalendar-ruby
CALSCALE:GREGORIAN
METHOD:PUBLISH
BEGIN:VEVENT
DTSTAMP:20260422T040233Z
UID:6-269082@epcentenary.org
DTSTART:20260830T143000Z
DTEND:20260830T153000Z
CLASS:PUBLIC
CREATED:20260421T213625
DESCRIPTION:
LAST-MODIFIED:20260421T213625
LOCATION:Centenary UMC
SUMMARY:Worship
URL;VALUE=URI:https://www.epcentenary.org/events/worship/2026-08-30
ATTACH;FILENAME=Bible2.jpg;FMTTYPE=image/jpeg:https://dq5pwpg1q8ru0.cloudfr
 ont.net/2025/09/27/02/44/36/edfd81e8-4f5b-4ce3-8a53-1b3a8f05428d/Bible2.jp
 g
END:VEVENT
END:VCALENDAR
